BEGIN:VCALENDAR
VERSION:2.0
PRODID:icalendar-ruby
CALSCALE:GREGORIAN
METHOD:PUBLISH
BEGIN:VEVENT
DTSTAMP:20200301T214349Z
UID:http://www.boutiqueestateagents.com.au/property?property_id=530722
DTSTART:20200314T103000
DTEND:20200314T110000
CLASS:PUBLIC
CREATED:20200217T122022
DESCRIPTION: 
LAST-MODIFIED:20200218T143157
LOCATION:94 Helene Street\, BULLEEN VIC 3105\, Australia
SUMMARY:94 Helene Street\,  Auction
URL:http://www.boutiqueestateagents.com.au/property?property_id=530722
END:VEVENT
END:VCALENDAR
