BEGIN:VCALENDAR
VERSION:2.0
PRODID:icalendar-ruby
CALSCALE:GREGORIAN
METHOD:PUBLISH
BEGIN:VEVENT
DTSTAMP:20200301T214726Z
UID:http://www.boutiqueestateagents.com.au/property?property_id=526960
DTSTART:20200321T110000
DTEND:20200321T113000
CLASS:PUBLIC
CREATED:20200213T111531
DESCRIPTION: 
LAST-MODIFIED:20200221T172236
LOCATION:407 / 15 Pascoe Street\, PASCOE VALE VIC 3044\, Australia
SUMMARY:407 / 15 Pascoe Street\,  Auction
URL:http://www.boutiqueestateagents.com.au/property?property_id=526960
END:VEVENT
END:VCALENDAR
