BEGIN:VCALENDAR
VERSION:2.0
PRODID:icalendar-ruby
CALSCALE:GREGORIAN
METHOD:PUBLISH
BEGIN:VEVENT
DTSTAMP:20200301T214402Z
UID:http://www.boutiqueestateagents.com.au/property?property_id=526319
DTSTART:20200314T130000
DTEND:20200314T133000
CLASS:PUBLIC
CREATED:20200210T171402
DESCRIPTION: 
LAST-MODIFIED:20200218T170252
LOCATION:A & B / 94 Helene Street\, BULLEEN VIC 3105\, Australia
SUMMARY:A & B / 94 Helene Street\,  Auction
URL:http://www.boutiqueestateagents.com.au/property?property_id=526319
END:VEVENT
END:VCALENDAR
