BEGIN:VCALENDAR
VERSION:2.0
PRODID:icalendar-ruby
CALSCALE:GREGORIAN
METHOD:PUBLISH
BEGIN:VEVENT
DTSTAMP:20200301T214419Z
UID:http://www.boutiqueestateagents.com.au/property?property_id=516661
DTSTART:20200229T093000
DTEND:20200229T100000
CLASS:PUBLIC
CREATED:20200128T105620
DESCRIPTION: 
LAST-MODIFIED:20200201T113140
LOCATION:32 Frederick Street\, BRUNSWICK VIC 3056\, Australia
SUMMARY:32 Frederick Street\,  Auction
URL:http://www.boutiqueestateagents.com.au/property?property_id=516661
END:VEVENT
END:VCALENDAR
