BEGIN:VCALENDAR
VERSION:2.0
PRODID:icalendar-ruby
CALSCALE:GREGORIAN
METHOD:PUBLISH
BEGIN:VEVENT
DTSTAMP:20200301T215550Z
UID:http://www.boutiqueestateagents.com.au/property?property_id=424110
DTSTART:20190914T090000
DTEND:20190914T093000
CLASS:PUBLIC
CREATED:20190715T053419
DESCRIPTION: 
LAST-MODIFIED:20190930T084656
LOCATION:3 / 53 Park Street\, PASCOE VALE VIC 3044\, Australia
SUMMARY:3 / 53 Park Street\,  Auction
URL:http://www.boutiqueestateagents.com.au/property?property_id=424110
END:VEVENT
END:VCALENDAR
