BEGIN:VCALENDAR
VERSION:2.0
PRODID:icalendar-ruby
CALSCALE:GREGORIAN
METHOD:PUBLISH
BEGIN:VEVENT
DTSTAMP:20200301T215629Z
UID:http://www.boutiqueestateagents.com.au/property?property_id=339815
DTSTART:20190323T130000
DTEND:20190323T133000
CLASS:PUBLIC
CREATED:20190225T134800
DESCRIPTION: 
LAST-MODIFIED:20190325T162428
LOCATION:25 Astair Avenue\, SOUTH MORANG VIC 3752\, Australia
SUMMARY:25 Astair Avenue\,  Auction
URL:http://www.boutiqueestateagents.com.au/property?property_id=339815
END:VEVENT
END:VCALENDAR
