BEGIN:VCALENDAR
VERSION:2.0
PRODID:icalendar-ruby
CALSCALE:GREGORIAN
METHOD:PUBLISH
BEGIN:VEVENT
DTSTAMP:20200301T215557Z
UID:http://www.boutiqueestateagents.com.au/property?property_id=16529
DTSTART:20190914T170000
DTEND:20190914T173000
CLASS:PUBLIC
CREATED:20150812T155737
DESCRIPTION: 
LAST-MODIFIED:20190916T151617
LOCATION:4 / 260 St Kilda Rd\, ST KILDA VIC 3182\, Australia
SUMMARY:4 / 260 St Kilda Rd\,  Auction
URL:http://www.boutiqueestateagents.com.au/property?property_id=16529
END:VEVENT
END:VCALENDAR
