BEGIN:VCALENDAR
VERSION:2.0
PRODID:icalendar-ruby
CALSCALE:GREGORIAN
METHOD:PUBLISH
BEGIN:VTIMEZONE
TZID:Australia/Melbourne
BEGIN:DAYLIGHT
DTSTART:20191006T030000
TZOFFSETFROM:+1000
TZOFFSETTO:+1100
RRULE:FREQ=YEARLY;BYDAY=1SU;BYMONTH=10
TZNAME:AEDT
END:DAYLIGHT
BEGIN:STANDARD
DTSTART:20200405T020000
TZOFFSETFROM:+1100
TZOFFSETTO:+1000
RRULE:FREQ=YEARLY;BYDAY=1SU;BYMONTH=4
TZNAME:AEST
END:STANDARD
END:VTIMEZONE
BEGIN:VEVENT
DTSTAMP:20200301T214736Z
UID:inspection_719875
DTSTART;TZID=Australia/Melbourne:20200305T173000
DTEND;TZID=Australia/Melbourne:20200305T174500
CLASS:PUBLIC
CREATED:20200218T093948
DESCRIPTION: 
LAST-MODIFIED:20200218T093948
LOCATION:407 / 15 Pascoe Street\, PASCOE VALE VIC 3044\, Australia
SUMMARY:407 / 15 Pascoe Street\,  Inspection
URL:http://www.boutiqueestateagents.com.au/
END:VEVENT
END:VCALENDAR
